BEGIN:VCALENDAR
VERSION:2.0
PRODID:-//Basler Baukultur - ECPv5.9.0//NONSGML v1.0//EN
CALSCALE:GREGORIAN
METHOD:PUBLISH
X-WR-CALNAME:Basler Baukultur
X-ORIGINAL-URL:https://www.basler-baukultur.ch
X-WR-CALDESC:Veranstaltungen für Basler Baukultur
BEGIN:VTIMEZONE
TZID:Europe/Zurich
BEGIN:DAYLIGHT
TZOFFSETFROM:+0100
TZOFFSETTO:+0200
TZNAME:CEST
DTSTART:20250330T010000
END:DAYLIGHT
BEGIN:STANDARD
TZOFFSETFROM:+0200
TZOFFSETTO:+0100
TZNAME:CET
DTSTART:20251026T010000
END:STANDARD
END:VTIMEZONE
BEGIN:VEVENT
DTSTART;TZID=Europe/Zurich:20250913T153000
DTEND;TZID=Europe/Zurich:20250913T161500
DTSTAMP:20260424T194504
CREATED:20250716T231813Z
LAST-MODIFIED:20250718T060959Z
UID:11106-1757777400-1757780100@www.basler-baukultur.ch
SUMMARY:Wohnüberbauung Hammer I
DESCRIPTION:Führung: Dorothee Huber\, Kunsthistorikerin. \n\n\n\nDie Wiederentdeckung der Blockrandbebauung als bewährtes städtebauliches Modell erreichte um 1980 weit über Basel hinaus Aufmerksamkeit. Aus der Untersuchung der Stadt der Gründerzeit schufen drei junge Architekten im Büro Diener & Diener 1978–1981 rund 90 kleine und grosse Wohnungen für unterschiedliche Gruppen und mit dem Grünstreifen durch die Mitte des Gevierts ein willkommenes Freiraumangebot für die Quartieröffentlichkeit. Die Ateliers auf zwei Geschossen mit Laubengang\, die Hofgärten oder die gemeinsame Dachterrasse kommen der ganzen Bewohnerschaft zugute. Die Wohnungen zu 1–6 Zimmern stehen Einzel- wie Familienhaushalten offen. Zu den Bewohnerinnen und Bewohnern der Frühzeit sind nach der Renovation um 2020 junge Familien eingezogen\, die für neues Leben im Hof sorgen. Als beredtes Zeugnis postmoderner Architektur gehört Hammer I zur jüngsten Generation von Baudenkmälern\, die eine lebhafte Auseinandersetzung mit dem baukulturellen Erbe vermitteln. \n\n\n\nVeranstaltung mit Anmeldung/Tickets \n\n\n\nFoto: Kantonale Denkmalpflege Basel-Stadt\, Klaus Spechtenhauser
URL:https://www.basler-baukultur.ch/veranstaltung/etd-2025-wohnueberbauung-hammer-i/2025-09-13/3
LOCATION:Treffpunkt: «Hammerplätzli»\, Hammerstrasse/Bläsiring\, beim Basilisken-Brunnen\, Basel\, 4057\, Switzerland
CATEGORIES:Anmeldung und Ticket notwendig,Gut wohnen
ATTACH;FMTTYPE=image/jpeg:https://www.basler-baukultur.ch/wp-content/uploads/2025/07/ETD-2025_Kantonale-Denkmalpflege-BS_20_Hammer.jpg
ORGANIZER;CN="Kantonale%20Denkmalpflege%20Basel-Stadt":MAILTO:denkmalpflege@bs.ch
GEO:47.568689;7.594963
END:VEVENT
END:VCALENDAR