BEGIN:VCALENDAR
VERSION:2.0
PRODID:-//Basler Baukultur - ECPv5.9.0//NONSGML v1.0//EN
CALSCALE:GREGORIAN
METHOD:PUBLISH
X-WR-CALNAME:Basler Baukultur
X-ORIGINAL-URL:https://www.basler-baukultur.ch
X-WR-CALDESC:Veranstaltungen für Basler Baukultur
BEGIN:VTIMEZONE
TZID:Europe/Zurich
BEGIN:DAYLIGHT
TZOFFSETFROM:+0100
TZOFFSETTO:+0200
TZNAME:CEST
DTSTART:20250330T010000
END:DAYLIGHT
BEGIN:STANDARD
TZOFFSETFROM:+0200
TZOFFSETTO:+0100
TZNAME:CET
DTSTART:20251026T010000
END:STANDARD
END:VTIMEZONE
BEGIN:VEVENT
DTSTART;TZID=Europe/Zurich:20250913T153000
DTEND;TZID=Europe/Zurich:20250913T161500
DTSTAMP:20260424T213030
CREATED:20250717T072726Z
LAST-MODIFIED:20250718T064136Z
UID:11193-1757777400-1757780100@www.basler-baukultur.ch
SUMMARY:Schützenmattpark: Von der Schützenwiese zum beliebten Volkspark
DESCRIPTION:Führung: Susanne Winkler\, Gartendenkmalpflegerin\, Stadtgärtnerei Basel-Stadt. \n\n\n\nMit knapp fünf Hektaren ist der Schützenmattpark einer der grössten Parkanlagen Basels und zählt aufgrund seiner zentralen Lage und gelungenen Gestaltung auch zu den beliebtesten. Er stellt stadtweit einen äusserst wichtigen Naherholungsort für die Bevölkerung dar. Im Stadtbild etabliert und weithin bekannt\, bezeugt der Schützenmattpark bis heute die starke Idee seiner einstigen Anlage als erster Volkspark in Basel Ende des 19. Jahrhunderts – auf der damaligen Schützenmatte. Malerische Bäume\, Spazierwege und grüne Nischen haben die Zeit überdauert. Alte und neue Bauten\, Spielgeräte und Kunstobjekte ergänzen das Parkbild heute stimmig. Vom damaligen Stadtgärtner Johann Niklaus Scholer entworfen und angelegt\, hat sich die Grundstruktur der Parkanlage bis heute nicht wesentlich verändert. Vielmehr konnte sich darin der eigentliche Geist und Wert der Anlage entfalten. War und ist es doch noch immer das «Volk» auf der Suche nach Begegnung\, Bewegung und Ruhe\, das diesen Ort prägt und seit jeher schätzt. \n\n\n\nVeranstaltung ohne Anmeldung/Tickets \n\n\n\nFoto: Kantonale Denkmalpflege Basel-Stadt\, Klaus Spechtenhauser
URL:https://www.basler-baukultur.ch/veranstaltung/etd-2025-schuetzenmattpark/2025-09-13/3
LOCATION:Treffpunkt: Beim Kiosk/Tramwartehäuschen\, Ecke Spalenring/Bundesstrasse\, Bundesstrasse 2\, Basel\, 4054\, Switzerland
CATEGORIES:Grünräume, Freiräume,keine Anmeldung, kein Ticket notwendig
ATTACH;FMTTYPE=image/jpeg:https://www.basler-baukultur.ch/wp-content/uploads/2025/07/ETD-2025_Kantonale-Denkmalpflege-BS_28_Schuetzenmattpark.jpg
ORGANIZER;CN="Kantonale%20Denkmalpflege%20Basel-Stadt":MAILTO:denkmalpflege@bs.ch
END:VEVENT
END:VCALENDAR