BEGIN:VCALENDAR
VERSION:2.0
PRODID:-//Basler Baukultur - ECPv5.9.0//NONSGML v1.0//EN
CALSCALE:GREGORIAN
METHOD:PUBLISH
X-WR-CALNAME:Basler Baukultur
X-ORIGINAL-URL:https://www.basler-baukultur.ch
X-WR-CALDESC:Veranstaltungen für Basler Baukultur
BEGIN:VTIMEZONE
TZID:Europe/Zurich
BEGIN:DAYLIGHT
TZOFFSETFROM:+0100
TZOFFSETTO:+0200
TZNAME:CEST
DTSTART:20220327T010000
END:DAYLIGHT
BEGIN:STANDARD
TZOFFSETFROM:+0200
TZOFFSETTO:+0100
TZNAME:CET
DTSTART:20221030T010000
END:STANDARD
END:VTIMEZONE
BEGIN:VEVENT
DTSTART;TZID=Europe/Zurich:20220910T110000
DTEND;TZID=Europe/Zurich:20220910T114500
DTSTAMP:20260420T005046
CREATED:20220824T093520Z
LAST-MODIFIED:20220830T110748Z
UID:4853-1662807600-1662810300@www.basler-baukultur.ch
SUMMARY:Aus den Augen\, aus dem Sinn: Jüdischer Friedhof und Kloster Gnadental
DESCRIPTION:Führung: Martin Allemann\, Archäologische Bodenforschung. \n\n\n\nDer mittelalterliche Friedhof der ersten jüdischen Gemeinde befand sich einst dort\, wo heute das Kollegienhaus der Universität steht. In den Jahren 1937 und 2003 wurden bei Ausgrabungen jüdische Gräber geborgen. Auf dem archäologischen Rundgang rund um die Spalenvorstadt erfahren Sie mehr über diese Gräber und weitere archäologische Fundstellen. \n\n\n\nFührungen um 11.00\, 14.00 und 15.30 Uhr (Dauer 45 Min.)
URL:https://www.basler-baukultur.ch/veranstaltung/etd-2022-juedischer-friedhof-kloster-gnadental/2022-09-10
LOCATION:Treffpunkt: Kollegienhaus\, Petersplatz 1\, Hintereingang am Spalengraben\, Petersplatz 1\, Basel\, 4051\, Schweiz
CATEGORIES:2022 - Europäischer Tag des Denkmals,Rundgänge,Ticket, ohne Check-in am Infostand
ATTACH;FMTTYPE=image/jpeg:https://www.basler-baukultur.ch/wp-content/uploads/2022/08/08_Archaeologie.jpg
ORGANIZER;CN="Kantonale%20Denkmalpflege%20Basel-Stadt":MAILTO:denkmalpflege@bs.ch
END:VEVENT
END:VCALENDAR