BEGIN:VCALENDAR
VERSION:2.0
PRODID:-//Basler Baukultur - ECPv5.9.0//NONSGML v1.0//EN
CALSCALE:GREGORIAN
METHOD:PUBLISH
X-WR-CALNAME:Basler Baukultur
X-ORIGINAL-URL:https://www.basler-baukultur.ch
X-WR-CALDESC:Veranstaltungen für Basler Baukultur
BEGIN:VTIMEZONE
TZID:Europe/Zurich
BEGIN:DAYLIGHT
TZOFFSETFROM:+0100
TZOFFSETTO:+0200
TZNAME:CEST
DTSTART:20250330T010000
END:DAYLIGHT
BEGIN:STANDARD
TZOFFSETFROM:+0200
TZOFFSETTO:+0100
TZNAME:CET
DTSTART:20251026T010000
END:STANDARD
END:VTIMEZONE
BEGIN:VEVENT
DTSTART;TZID=Europe/Zurich:20250913T153000
DTEND;TZID=Europe/Zurich:20250913T161500
DTSTAMP:20260421T121116
CREATED:20250717T162431Z
LAST-MODIFIED:20250718T065431Z
UID:11225-1757777400-1757780100@www.basler-baukultur.ch
SUMMARY:Vom römischen Kamel bis zum neuzeitlichen Coiffeursalon
DESCRIPTION:Führung: Dagmar Bargetzi\, Archäologische Bodenforschung Basel-Stadt. \n\n\n\nDas Gebiet an der Birsigmündung erfuhr seit der römischen Zeit immer wieder tiefgreifende Veränderungen: Unter einer spätrömischen Fernstrasse beim Spiegelhof kamen Skelettreste eines Kamels zum Vorschein. Direkt gegenüber stiessen Mitarbeitende der Archäologischen Bodenforschung beim Neubau des Amts für Umwelt und Energie (AUE) im Jahr 2019 auf zahlreiche Mauern\, verfüllte Kellerräume und Reste von hochmittelalterlichen Holzgebäuden. Aussergewöhnlich war der Fund einer Mauer aus Bossenquadern\, die zu einem repräsentativen Gebäude aus dem 13. Jahrhundert gehörte. Im 19. Jahrhundert nahm die rasante Stadtentwicklung keine Rücksicht auf die jahrhundertealte Bebauung an der Birsigmündung. Nahezu hundert Altstadthäuser wurden niedergerissen\, so auch ein Coiffeursalon und das Hotel zur Blume\, die beide einst an der Stelle des AUE standen. Der archäologische Rundgang führt in die Informationsstelle im AUE\, die sonst nicht öffentlich zugänglich ist. Die vor Ort konservierte mittelalterliche Mauer\, eine mediale Präsentation sowie Funde illustrieren die Siedlungsgeschichte an der Birsigmündung. \n\n\n\nVeranstaltung mit Anmeldung/Tickets \n\n\n\nFoto: StABS\, AL 45\, 4-23-3
URL:https://www.basler-baukultur.ch/veranstaltung/etd-2025-vom-roemischen-kamel-bis-zum-neuzeitlichen-coiffeursalon/2025-09-13/3
LOCATION:Amt für Umwelt und Energie (AUE)\, Spiegelgasse 15\, Spiegelgasse 15\, Basel\, 4051\, Switzerland
CATEGORIES:Anmeldung und Ticket notwendig,Und ausserdem
ATTACH;FMTTYPE=image/jpeg:https://www.basler-baukultur.ch/wp-content/uploads/2025/07/ETD-2025_Kantonale-Denkmalpflege-BS_31_Kamel-Coiffeursalon.jpg
ORGANIZER;CN="Kantonale%20Denkmalpflege%20Basel-Stadt":MAILTO:denkmalpflege@bs.ch
END:VEVENT
END:VCALENDAR