BEGIN:VCALENDAR
VERSION:2.0
PRODID:-//Basler Baukultur - ECPv5.9.0//NONSGML v1.0//EN
CALSCALE:GREGORIAN
METHOD:PUBLISH
X-WR-CALNAME:Basler Baukultur
X-ORIGINAL-URL:https://www.basler-baukultur.ch
X-WR-CALDESC:Veranstaltungen für Basler Baukultur
BEGIN:VTIMEZONE
TZID:Europe/Zurich
BEGIN:DAYLIGHT
TZOFFSETFROM:+0100
TZOFFSETTO:+0200
TZNAME:CEST
DTSTART:20250330T010000
END:DAYLIGHT
BEGIN:STANDARD
TZOFFSETFROM:+0200
TZOFFSETTO:+0100
TZNAME:CET
DTSTART:20251026T010000
END:STANDARD
END:VTIMEZONE
BEGIN:VEVENT
DTSTART;TZID=Europe/Zurich:20250904T180000
DTEND;TZID=Europe/Zurich:20250904T190000
DTSTAMP:20260424T144509
CREATED:20250513T011003Z
LAST-MODIFIED:20250817T221609Z
UID:10773-1757008800-1757012400@www.basler-baukultur.ch
SUMMARY:Sorgfältiger Dachausbau mit Respekt vor dem Bestand
DESCRIPTION:Führung: Muggli + Bischler Architekten und Marc Rohr\, Kantonale Denkmalpflege. \n\n\n\nGeht es um die Optimierung der Nutzfläche in einem Wohnhaus\, so steht meist der Dachraum im Fokus: Funktional bestimmte und entsprechend schlicht ausgestattete Estrichräume werden derart in ‹stylische› Dachwohnungen umgewandelt. Bis auf sichtbar belassene Holzbalken bleibt oft nicht mehr viel von der ursprünglichen Erscheinung erhalten. Dass es auch anders geht\, zeigt ein denkmalgeschütztes Wohnhaus in der Eulerstrasse. Beim hier erfolgten Ausbau des Estrichs zu einer Wohnung wurden die historischen Materialien und Bauelemente grösstenteils weiterverwendet: So dient der alte Bretterboden heute – gehobelt\, geschliffen und geölt – als Wohnungsfussboden\, und auch die aufgefrischte und ertüchtigte Estrichtreppe auf den Kehlboden steht nach wie vor an Ort und Stelle. Belichtet wird die schlicht ausgestattete Wohnung durch von der Strasse nicht einsehbare Dachflächenfenster.[Foto: Kantonale Denkmalpflege Basel-Stadt\, Marc Rohr] \n\n\n\nAnmeldung für diese Führung ab 18. August
URL:https://www.basler-baukultur.ch/veranstaltung/sorgfaeltiger-dachausbau
LOCATION:Treffpunkt: Eulerstrasse 8\, Eulerstrasse 8\, Basel\, 4051\, Switzerland
CATEGORIES:2025 – Dachwelten,Anmeldung und Ticket notwendig
ATTACH;FMTTYPE=image/jpeg:https://www.basler-baukultur.ch/wp-content/uploads/2025/05/250904_Sorgfaeltiger_Dachausbau.jpg
ORGANIZER;CN="Kantonale%20Denkmalpflege%20Basel-Stadt":MAILTO:denkmalpflege@bs.ch
END:VEVENT
END:VCALENDAR