BEGIN:VCALENDAR
VERSION:2.0
PRODID:-//Basler Baukultur - ECPv5.9.0//NONSGML v1.0//EN
CALSCALE:GREGORIAN
METHOD:PUBLISH
X-WR-CALNAME:Basler Baukultur
X-ORIGINAL-URL:https://www.basler-baukultur.ch
X-WR-CALDESC:Veranstaltungen für Basler Baukultur
BEGIN:VTIMEZONE
TZID:Europe/Zurich
BEGIN:DAYLIGHT
TZOFFSETFROM:+0100
TZOFFSETTO:+0200
TZNAME:CEST
DTSTART:20250330T010000
END:DAYLIGHT
BEGIN:STANDARD
TZOFFSETFROM:+0200
TZOFFSETTO:+0100
TZNAME:CET
DTSTART:20251026T010000
END:STANDARD
END:VTIMEZONE
BEGIN:VEVENT
DTSTART;TZID=Europe/Zurich:20250913T140000
DTEND;TZID=Europe/Zurich:20250913T144500
DTSTAMP:20260424T163109
CREATED:20250716T222443Z
LAST-MODIFIED:20250718T060439Z
UID:11072-1757772000-1757774700@www.basler-baukultur.ch
SUMMARY:Siedlung «Im Landauer»: Langlebige Holzbauten in NILBO-Systembauweise
DESCRIPTION:Führung: Anne Nagel\, Kantonale Denkmalpflege Basel-Stadt\, und Marie-Thérèse Véron\, Präsidentin Bau- und Wohngenossenschaft Im Landauer. \n\n\n\nDie Genossenschaftssiedlung «Im Landauer» liegt\, von zwei Bahndämmen abgeschieden\, inmitten von Pflanzgärten an der östlichen Stadtgrenze zu Riehen. Die Siedlung aus 52 Einzel- und Doppelwohnhäusern aus Holz entstand 1943–1947\, in einer Zeit grosser Wohnungsnot und wirtschaftlicher Ungewissheit. Der Architekt Hans Bernoulli hatte gemeinsam mit der Basler Zimmerei Nielsen-Bohny & Cie. AG ein modulares Holzbausystem (System NILBO) entwickelt. Dank der vorgefertigten Holzelemente gelang es\, innert kürzester Zeit kostengünstige Kleinhäuser für kinderreiche Familien mit geringem Einkommen zu errichten. Mit einfachsten Mitteln schuf Bernoulli eine städtebaulich und aussenräumlich überzeugende Siedlung mit schlichten\, aber einladenden Wohnbauten\, grossen Nutzgärten\, einem Kindergarten\, einem Konsumgebäude sowie einem Waschhaus mit Bad – kurzum einen lebenswerten Wohnraum. Die aktuell angedachte Weiterentwicklung anerkennt die Qualitäten der Siedlung und sieht deren Erhalt und Stärkung vor. \n\n\n\nVeranstaltung ohne Anmeldung/Tickets \n\n\n\nFoto: Kantonale Denkmalpflege Basel-Stadt\, Klaus Spechtenhauser
URL:https://www.basler-baukultur.ch/veranstaltung/etd-2025-siedlung-im-landauer/2025-09-13
LOCATION:Treffpunkt: Vor dem ehem. ACV-Laden\, Landauerhofweg 4\, Landauerhofweg 4\, Basel\, 4058\, Switzerland
CATEGORIES:Gut wohnen,keine Anmeldung, kein Ticket notwendig
ATTACH;FMTTYPE=image/jpeg:https://www.basler-baukultur.ch/wp-content/uploads/2025/07/ETD-2025_Kantonale-Denkmalpflege-BS_17_Landauer.jpg
ORGANIZER;CN="Kantonale%20Denkmalpflege%20Basel-Stadt":MAILTO:denkmalpflege@bs.ch
END:VEVENT
END:VCALENDAR