BEGIN:VCALENDAR
VERSION:2.0
PRODID:-//Basler Baukultur - ECPv5.9.0//NONSGML v1.0//EN
CALSCALE:GREGORIAN
METHOD:PUBLISH
X-WR-CALNAME:Basler Baukultur
X-ORIGINAL-URL:https://www.basler-baukultur.ch
X-WR-CALDESC:Veranstaltungen für Basler Baukultur
BEGIN:VTIMEZONE
TZID:Europe/Zurich
BEGIN:DAYLIGHT
TZOFFSETFROM:+0100
TZOFFSETTO:+0200
TZNAME:CEST
DTSTART:20250330T010000
END:DAYLIGHT
BEGIN:STANDARD
TZOFFSETFROM:+0200
TZOFFSETTO:+0100
TZNAME:CET
DTSTART:20251026T010000
END:STANDARD
END:VTIMEZONE
BEGIN:VEVENT
DTSTART;TZID=Europe/Zurich:20250913T140000
DTEND;TZID=Europe/Zurich:20250913T144500
DTSTAMP:20260424T195654
CREATED:20250716T213607Z
LAST-MODIFIED:20250718T054321Z
UID:11052-1757772000-1757774700@www.basler-baukultur.ch
SUMMARY:Der Rosshof: Stadtreparatur mit vielfältigen Bezügen
DESCRIPTION:Führung: Boris Schibler\, Kantonale Denkmalpflege Basel-Stadt. \n\n\n\nEinst befand sich auf dem Rosshofareal ein sehr stattliches Anwesen innerhalb der mittelalterlichen Altstadt. Im 20. Jahrhundert verkam es zu einer städtischen Brache und diente\, nach einem Brand in den 1950er Jahren\, als «teuerster Parkplatz Europas». Pläne zur Errichtung eines Autosilos führten zu massiven Protesten der Bevölkerung. Aus dem 1978 lancierten Wettbewerb zur architektonischen Neugestaltung des Areals ging der heutige\, 1987 fertiggestellte Bau des Zürcher Büros Studer Studer Naef hervor. Er ist ein frühes Beispiel für das postmoderne Bauen im Kontext\, das ausdrücklich den Dialog mit seiner historisch gewachsenen Umgebung sucht. So wurden nicht nur die bestehenden historischen Gebäude in die Gesamtanlage integriert\, sondern im Neubau auch zahlreiche Bezüge zu seinem Standort zwischen Stadtteilen des Mittelalters und des 19. Jahrhunderts hergestellt. Auf diesem Zusammenspiel von Alt und Neu beruht die hohe stadträumliche Qualität des Rosshofs. \n\n\n\nVeranstaltung mit Anmeldung/Tickets \n\n\n\nFoto: Kantonale Denkmalpflege Basel-Stadt\, Klaus Spechtenhauser
URL:https://www.basler-baukultur.ch/veranstaltung/etd-2025-rosshof/2025-09-13/2
LOCATION:Treffpunkt: Vor dem Haupteingang der ehem. Gewerbeschule\, Petersgraben 52\, Petersgraben 52\, Basel\, 4051\, Switzerland
CATEGORIES:Anmeldung und Ticket notwendig,Respektvolle Stadterneuerung
ATTACH;FMTTYPE=image/jpeg:https://www.basler-baukultur.ch/wp-content/uploads/2025/07/ETD-2025_Kantonale-Denkmalpflege-BS_15_Rosshof.jpg
ORGANIZER;CN="Kantonale%20Denkmalpflege%20Basel-Stadt":MAILTO:denkmalpflege@bs.ch
END:VEVENT
END:VCALENDAR