BEGIN:VCALENDAR
VERSION:2.0
PRODID:-//Basler Baukultur - ECPv5.9.0//NONSGML v1.0//EN
CALSCALE:GREGORIAN
METHOD:PUBLISH
X-WR-CALNAME:Basler Baukultur
X-ORIGINAL-URL:https://www.basler-baukultur.ch
X-WR-CALDESC:Veranstaltungen für Basler Baukultur
BEGIN:VTIMEZONE
TZID:Europe/Zurich
BEGIN:DAYLIGHT
TZOFFSETFROM:+0100
TZOFFSETTO:+0200
TZNAME:CEST
DTSTART:20250330T010000
END:DAYLIGHT
BEGIN:STANDARD
TZOFFSETFROM:+0200
TZOFFSETTO:+0100
TZNAME:CET
DTSTART:20251026T010000
END:STANDARD
END:VTIMEZONE
BEGIN:VEVENT
DTSTART;TZID=Europe/Zurich:20250913T123000
DTEND;TZID=Europe/Zurich:20250913T133000
DTSTAMP:20260420T134334
CREATED:20250715T200707Z
LAST-MODIFIED:20250811T092752Z
UID:10924-1757766600-1757770200@www.basler-baukultur.ch
SUMMARY:Mittagskonzert: «Bern mit Zürich verglichen ist schon viel mehr Provinz» – Willy Burkhard\, Carl Nielsen und ihre Städte
DESCRIPTION:Haben Städte einen Einfluss auf die Schaffensfreude von Komponisten? Anhand von Auszügen aus Briefen und Erinnerungen von Carl Nielsen und Willy Burkhard\, vortragen von Satu Blanc\, will das Konzert dieser Frage auf den Grund gehen. Den Berner Willy Burkhard beschäftigte in den 1930er Jahren im Briefwechsel mit seinem Berner Kollegen Volkmar Andreae\, welche Schweizer Stadt für einen Komponisten «lebenswert» ist. Beide fühlten sich ihrer Heimatstadt verpflichtet – aber Bern als Wirkungsort für einen Komponisten? Die Piccola Sinfonia Giocosa wurde jedenfalls in Basel vom Basler Kammerorchester unter der Leitung von Paul Sacher uraufgeführt. Carl Nielsen\, der auf dem Land aufgewachsen war und in der Provinzstadt Odense seine musikalische Karriere begann\, strebte nach Kopenhagen\, um sich als Komponist auszubilden und dort sein Publikum zu finden: Seine kleine Suite für Streicher op. 1 wurde im Tivoli erfolgreich aufgeführt. Wie sich Nielsen als Landkind mit seiner Familie in der grossen Metropole lebenswert einrichtete\, erfahren wir aus den Erinnerungen seiner Tochter Anne Marie Telmányi Nielsen. \n\n\n\nProgramm:Carl Nielsen (1865–1931): Kleine Suite für Streichorchester\, a-Moll op. 1 (1887–88)Willy Burkhard (1900–1955): Piccola Sinfonia Giocosa\, op. 81 (1956) \n\n\n\nDmitry Smirnov\, Violine und Leitung; Kammerorchester Basel; Satu Blanc\, Erzählerin; Daniel Schneller\, Moderation \nMit freundlicher Unterstützung von:Willy A. und Hedwig Bachofen-Henn-StiftungBaukult – Freiwillige Basler DenkmalpflegeCarl Nielsen og Anne Marie Carl-Nielsens LegatWilly Burkhard-GesellschaftJacqueline AlbrechtChristine Wirz von Planta \n\n\n\nEintritt frei – Veranstaltung ohne Anmeldung/Tickets \n\n\n\nFoto: Kammerorchester Basel\, Matthias Müller
URL:https://www.basler-baukultur.ch/veranstaltung/etd-2025-mittagskonzert
LOCATION:Kleines Klingental\, Unterer Rheinweg 26\, Grosses Refektorium\, Unterer Rheinweg 26\, Basel\, 4058\, Schweiz
CATEGORIES:keine Anmeldung, kein Ticket notwendig,Rahmenprogramm
ATTACH;FMTTYPE=image/jpeg:https://www.basler-baukultur.ch/wp-content/uploads/2025/07/ETD-2025_Kantonale-Denkmalpflege-BS_03_Mittagskonzert.jpg
ORGANIZER;CN="Kantonale%20Denkmalpflege%20Basel-Stadt":MAILTO:denkmalpflege@bs.ch
END:VEVENT
END:VCALENDAR