BEGIN:VCALENDAR
VERSION:2.0
PRODID:-//Basler Baukultur - ECPv5.9.0//NONSGML v1.0//EN
CALSCALE:GREGORIAN
METHOD:PUBLISH
X-WR-CALNAME:Basler Baukultur
X-ORIGINAL-URL:https://www.basler-baukultur.ch
X-WR-CALDESC:Veranstaltungen für Basler Baukultur
BEGIN:VTIMEZONE
TZID:Europe/Zurich
BEGIN:DAYLIGHT
TZOFFSETFROM:+0100
TZOFFSETTO:+0200
TZNAME:CEST
DTSTART:20250330T010000
END:DAYLIGHT
BEGIN:STANDARD
TZOFFSETFROM:+0200
TZOFFSETTO:+0100
TZNAME:CET
DTSTART:20251026T010000
END:STANDARD
END:VTIMEZONE
BEGIN:VEVENT
DTSTART;TZID=Europe/Zurich:20250913T140000
DTEND;TZID=Europe/Zurich:20250913T144500
DTSTAMP:20260420T152755
CREATED:20250715T205527Z
LAST-MODIFIED:20250717T215623Z
UID:10943-1757772000-1757774700@www.basler-baukultur.ch
SUMMARY:Die lebenswerte Altstadt
DESCRIPTION:Führung: Martin Möhle\, Kantonale Denkmalpflege Basel-Stadt. \n\n\n\nDie Veränderungen der Stadt seit der Mitte des 19. Jahrhunderts\, die vorerst hauptsächlich die Entstehung der Aussenquartiere mit sich brachten\, ergriffen auch die Altstadt. Die Umwandlung in eine geschäftige City übte starken Druck auf die Bausubstanz aus: Bei «Korrektionen» wurden ganze Strassenzüge niedergelegt und mit Geschäftshäusern neu bebaut. Andere\, weniger lukrative Bereiche verfielen langsam und gerieten den Verkehrsplanern in den Blick\, als im 20. Jahrhundert dem Auto Vorfahrt gewährt wurde. Mit den 1939 festgelegten «Altstadtzonen» wurde immerhin dem Abbruch ein Hindernis in den Weg gelegt. Heute ist man froh darüber\, dass die Kleinteiligkeit und der Variantenreichtum der historischen Bebauung die Vielfalt der Lebensformen in den Häusern und auf den Gassen ermöglichen und unterstützen ‒ kurz\, eine Atmosphäre schaffen\, die nicht künstlich hervorgerufen werden kann. Durch ihre Vielschichtigkeit birgt sie Erinnerungen und erfordert gleichzeitig Kreativität im Umgang mit dem Bestand. \n\n\n\nVeranstaltung mit Anmeldung/Tickets \n\n\n\nFoto: Christen\, Archiv Kantonale Denkmalpflege Basel-Stadt
URL:https://www.basler-baukultur.ch/veranstaltung/etd-2025-lebenswerte-altstadt/2025-09-13/2
LOCATION:Treffpunkt: Vor dem Haus zum Geyer\, Spalenberg 20\, Spalenberg 20\, Basel\, 4051\, Switzerland
CATEGORIES:Anmeldung und Ticket notwendig,Lebenswert im Wandel
ATTACH;FMTTYPE=image/jpeg:https://www.basler-baukultur.ch/wp-content/uploads/2025/07/ETD-2025_Kantonale-Denkmalpflege-BS_05_LebenswerteAltstadt.jpg
ORGANIZER;CN="Kantonale%20Denkmalpflege%20Basel-Stadt":MAILTO:denkmalpflege@bs.ch
END:VEVENT
END:VCALENDAR