BEGIN:VCALENDAR
VERSION:2.0
PRODID:-//Basler Baukultur - ECPv5.9.0//NONSGML v1.0//EN
CALSCALE:GREGORIAN
METHOD:PUBLISH
X-WR-CALNAME:Basler Baukultur
X-ORIGINAL-URL:https://www.basler-baukultur.ch
X-WR-CALDESC:Veranstaltungen für Basler Baukultur
BEGIN:VTIMEZONE
TZID:Europe/Zurich
BEGIN:DAYLIGHT
TZOFFSETFROM:+0100
TZOFFSETTO:+0200
TZNAME:CEST
DTSTART:20250330T010000
END:DAYLIGHT
BEGIN:STANDARD
TZOFFSETFROM:+0200
TZOFFSETTO:+0100
TZNAME:CET
DTSTART:20251026T010000
END:STANDARD
END:VTIMEZONE
BEGIN:VEVENT
DTSTART;TZID=Europe/Zurich:20250913T093000
DTEND;TZID=Europe/Zurich:20250913T103000
DTSTAMP:20260424T145738
CREATED:20250715T194045Z
LAST-MODIFIED:20250717T211659Z
UID:10918-1757755800-1757759400@www.basler-baukultur.ch
SUMMARY:Eröffnung mit anschliessendem Apéro
DESCRIPTION:Regierungsrätin Esther Keller eröffnet den diesjährigen Denkmaltag in Basel. Daniel Schneller\, Kantonaler Denkmalpfleger\, sowie Victor Boye Julebæk\, Architekt und Assistenzprofessor am Institute of Architecture and Culture der Royal Danish Academy\, geben Inputs zum Thema «Die lebenswerte Stadt»\, dem diesjährigen Motto der Denkmaltage in Basel. Ausgangspunkt dafür ist die Ausstellung «Lebenswerte Stadt – 28x Stadtentwicklung in Dänemark. Ein Städtedialog mit Basel» im Museum Kleines Klingental\, die um die zentrale Frage kreist\, wie eine Stadt in der heutigen Zeit lebenswert entwickelt werden kann. Anschliessend Apéro. \n\n\n\n– Eröffnung durch Esther Keller\, Regierungsrätin\, Vorsteherin des Bau- und Verkehrsdepartements des Kantons Basel-Stadt– Inputs von Daniel Schneller\, Kantonaler Denkmalpfleger Basel-Stadt\, und Victor Boye Julebæk\, Architekt; Assistant professor\, Head of Master’s Programme for Cultural Heritage\, Transformation and Conservation\, Royal Danish Academy\, Institute of Architecture and Culture– Anschliessend Apéro \n\n\n\nEintritt frei – Veranstaltung ohne Anmeldung/Tickets \nFoto: MAST
URL:https://www.basler-baukultur.ch/veranstaltung/etd-2025-eroeffnung-apero-2024-09-13
LOCATION:Kleines Klingental\, Unterer Rheinweg 26\, Grosses Refektorium\, Unterer Rheinweg 26\, Basel\, 4058\, Schweiz
CATEGORIES:keine Anmeldung, kein Ticket notwendig,Rahmenprogramm
ATTACH;FMTTYPE=image/jpeg:https://www.basler-baukultur.ch/wp-content/uploads/2025/07/ETD-2025_Kantonale-Denkmalpflege-BS_02_Eroeffnung.jpg
ORGANIZER;CN="Kantonale%20Denkmalpflege%20Basel-Stadt":MAILTO:denkmalpflege@bs.ch
END:VEVENT
END:VCALENDAR