BEGIN:VCALENDAR
VERSION:2.0
PRODID:-//Basler Baukultur - ECPv5.9.0//NONSGML v1.0//EN
CALSCALE:GREGORIAN
METHOD:PUBLISH
X-WR-CALNAME:Basler Baukultur
X-ORIGINAL-URL:https://www.basler-baukultur.ch
X-WR-CALDESC:Veranstaltungen für Basler Baukultur
BEGIN:VTIMEZONE
TZID:Europe/Zurich
BEGIN:DAYLIGHT
TZOFFSETFROM:+0100
TZOFFSETTO:+0200
TZNAME:CEST
DTSTART:20230326T010000
END:DAYLIGHT
BEGIN:STANDARD
TZOFFSETFROM:+0200
TZOFFSETTO:+0100
TZNAME:CET
DTSTART:20231029T010000
END:STANDARD
END:VTIMEZONE
BEGIN:VEVENT
DTSTART;TZID=Europe/Zurich:20230909T153000
DTEND;TZID=Europe/Zurich:20230909T161500
DTSTAMP:20260424T105733
CREATED:20230707T055150Z
LAST-MODIFIED:20230712T220410Z
UID:7355-1694273400-1694276100@www.basler-baukultur.ch
SUMMARY:Prachtvolle Erinnerungsstätte
DESCRIPTION:Führung: Jonathan Büttner und Boris Schibler\, Kantonale Denkmalpflege. \n\n\n\nIn unmittelbarere Nachbarschaft zur Elisabethenkirche steht das 1896–1898 für die Christoph Merian Stiftung erbaute Verwaltungsgebäude. Es bildet mit dem 30 Jahre älteren Pfarrhaus zu St. Elisabethen ein überaus stimmiges Ensemble im Stil des Historismus. \n\n\n\nDas aus einem Wettbewerb hervorgegangene\, vom Basler Architekten Friedrich Walser entworfene und von Rudolf Linder vollendete Gebäude\, das bis 1955 der Verwaltung des Stiftungsvermögens diente\, war auch als Erinnerungsstätte an Christoph Merian-Burckhardt\, den grosszügigen Stifter der Stadt Basel\, konzipiert. Die repräsentative Renaissance-Fassade des Baus folgte der damals üblichen Verwendung dieses Stils für Bank- und Geldinstitute. Vestibül und Treppenhaus\, die das Sitzungszimmer der Stiftungskommission im 1. Obergeschoss – das eigentliche Herzstück des Hauses – erschliessen\, sind von besonderer Pracht und Weiträumigkeit. Das Denkmal in der Eingangshalle\, das Merians segensreiches Wirken in Erinnerung hielt\, wurde 1955 leider ausgebaut. Die wohltätige Arbeit des Stifters wird aber noch heute mit den Kachelbildern des stattlichen Fayence-Ofens im Sitzungszimmer veranschaulicht. \n\n\n\nFoto: Kantonale Denkmalpflege Basel-Stadt\, Klaus Spechtenhauser
URL:https://www.basler-baukultur.ch/veranstaltung/etd-2023-prachtvolle-erinnerungsstaette/2023-09-09/3
LOCATION:Treffpunkt: Elisabethenstrasse 8\, auf der gegenüberliegenden Strassenseite\, Elisabethenstrasse 8\, Basel\, 4051\, Schweiz
CATEGORIES:2023 - Europäischer Tag des Denkmals,Anmeldung und Ticket notwendig,Elisabethenstrasse
ATTACH;FMTTYPE=image/jpeg:https://www.basler-baukultur.ch/wp-content/uploads/2023/07/16_Kantonale-Denkmalpflege-Basel-Stadt_Europaeischer-Denkmaltag-2023_CMS.jpg
ORGANIZER;CN="Kantonale%20Denkmalpflege%20Basel-Stadt":MAILTO:denkmalpflege@bs.ch
END:VEVENT
END:VCALENDAR