BEGIN:VCALENDAR
VERSION:2.0
PRODID:-//Basler Baukultur - ECPv5.9.0//NONSGML v1.0//EN
CALSCALE:GREGORIAN
METHOD:PUBLISH
X-WR-CALNAME:Basler Baukultur
X-ORIGINAL-URL:https://www.basler-baukultur.ch
X-WR-CALDESC:Veranstaltungen für Basler Baukultur
BEGIN:VTIMEZONE
TZID:Europe/Zurich
BEGIN:DAYLIGHT
TZOFFSETFROM:+0100
TZOFFSETTO:+0200
TZNAME:CEST
DTSTART:20230326T010000
END:DAYLIGHT
BEGIN:STANDARD
TZOFFSETFROM:+0200
TZOFFSETTO:+0100
TZNAME:CET
DTSTART:20231029T010000
END:STANDARD
END:VTIMEZONE
BEGIN:VEVENT
DTSTART;TZID=Europe/Zurich:20230909T153000
DTEND;TZID=Europe/Zurich:20230909T161500
DTSTAMP:20260420T105306
CREATED:20230707T062727Z
LAST-MODIFIED:20230712T220541Z
UID:7387-1694273400-1694276100@www.basler-baukultur.ch
SUMMARY:Merians Elisabethenkirche
DESCRIPTION:Führung: André Salvisberg\, Historiker. \n\n\n\nDie 1864 eröffnete Elisabethenkirche bedient sich der gotischen Formensprache und beherbergt – ganz in mittelalterlicher Tradition – das Stifterpaar Christoph und Margaretha Merian in ihrer Krypta. Dies geschah\, als Basel sich industrialisierte und auf den Weg zur modernen Grossstadt machte. Ein Bauwerk im Zwiespalt von Bewahrung und Erneuerung.  \n\n\n\nBis heute hat die 1857–1865 erbaute Elisabethenkirche den Ruf eines «Mahnmals gegen den Ungeist der Zeit». Mit «Ungeist» sind die tiefgreifenden Veränderungen gemeint\, die Basel ab Mitte des 19. Jahrhunderts erlebte: Industrialisierung\, Massengesellschaft\, Säkularisierung. Die Kirche wirkte schon bald wie ein Fixpunkt des alteingesessenen\, protestantisch-konservativen Basels. Und das nicht nur durch ihre neugotische Formensprache\, sondern auch durch das Stifterpaar Christoph und Margaretha Merian-Burckhardt\, das sich in einer Krypta unter dem Chor – die Führung bietet einen Augenschein vor Ort – bestatten liess. Die Mächtigkeit der Elisabethenkirche\, die wie auf einer Pfalz stand\, ist seit 1975 durch den Theaterbau verunklärt – und damit auch ihre seinerzeitige Bedeutung für die Fragen\, wie eine Stadt und ihre Gesellschaft sich bewahren und erneuern sollen. \n\n\n\nFoto: Offene Kirche Elisabethen\, Stefan Holenstein
URL:https://www.basler-baukultur.ch/veranstaltung/etd-2023-merians-elisabethenkirche/2023-09-09/3
LOCATION:Treffpunkt: Elisabethenkirche\, Elisabethenstrasse 14\, zwischen Chor und Theatercafé\, Elisabethenstrasse 14\, Basel\, 4051\, Schweiz
CATEGORIES:2023 - Europäischer Tag des Denkmals,Elisabethenstrasse,keine Anmeldung, kein Ticket notwendig
ATTACH;FMTTYPE=image/jpeg:https://www.basler-baukultur.ch/wp-content/uploads/2023/07/18_Kantonale-Denkmalpflege-Basel-Stadt_Europaeischer-Denkmaltag-2023_Merians-Elisabethen.jpg
ORGANIZER;CN="Kantonale%20Denkmalpflege%20Basel-Stadt":MAILTO:denkmalpflege@bs.ch
END:VEVENT
END:VCALENDAR