BEGIN:VCALENDAR
VERSION:2.0
PRODID:-//Basler Baukultur - ECPv5.9.0//NONSGML v1.0//EN
CALSCALE:GREGORIAN
METHOD:PUBLISH
X-WR-CALNAME:Basler Baukultur
X-ORIGINAL-URL:https://www.basler-baukultur.ch
X-WR-CALDESC:Veranstaltungen für Basler Baukultur
BEGIN:VTIMEZONE
TZID:Europe/Zurich
BEGIN:DAYLIGHT
TZOFFSETFROM:+0100
TZOFFSETTO:+0200
TZNAME:CEST
DTSTART:20220327T010000
END:DAYLIGHT
BEGIN:STANDARD
TZOFFSETFROM:+0200
TZOFFSETTO:+0100
TZNAME:CET
DTSTART:20221030T010000
END:STANDARD
END:VTIMEZONE
BEGIN:VEVENT
DTSTART;TZID=Europe/Zurich:20220910T110000
DTEND;TZID=Europe/Zurich:20220910T114500
DTSTAMP:20260423T133538
CREATED:20220824T100622Z
LAST-MODIFIED:20220901T212528Z
UID:4881-1662807600-1662810300@www.basler-baukultur.ch
SUMMARY:Gepflegt und gehegt: Das Spalentor
DESCRIPTION:Führung: Conradin Badrutt\, Kantonale Denkmalpflege\, und Felix Forrer\, Steinbildhauer und Restaurator. \n\n\n\nDas Spalentor wird oft als schönstes Tor Basels bezeichnet. 1398 vollendet\, diente es bis zum Abbruch der Stadtmauer um 1866 als Tor ins Elsass. Heute steht es «im Weg» und ist lebendiges Zeugnis einer über 150-jährigen denkmalpflegerischen Wertschätzung. Neben der Baugeschichte des Tors thematisiert die Führung die letzte Instandstellung 2013. \n\n\n\nFührungen um 11.00\, 14.00 und 15.30 Uhr (Dauer 45 Min.)
URL:https://www.basler-baukultur.ch/veranstaltung/etd-2022-das-spalentor/2022-09-10
LOCATION:Treffpunkt: Spalentor\, Spalenvorstadt 46\, in der Tordurchfahrt\, Spalentor\, Basel\, 4056\, Schweiz
CATEGORIES:2022 - Europäischer Tag des Denkmals,Häuser & Geschichten,mit Ticket-Check-in am Infostand
ATTACH;FMTTYPE=image/jpeg:https://www.basler-baukultur.ch/wp-content/uploads/2022/08/10_Spalentor.jpg
ORGANIZER;CN="Kantonale%20Denkmalpflege%20Basel-Stadt":MAILTO:denkmalpflege@bs.ch
END:VEVENT
END:VCALENDAR