BEGIN:VCALENDAR
VERSION:2.0
PRODID:-//Basler Baukultur - ECPv5.9.0//NONSGML v1.0//EN
CALSCALE:GREGORIAN
METHOD:PUBLISH
X-WR-CALNAME:Basler Baukultur
X-ORIGINAL-URL:https://www.basler-baukultur.ch
X-WR-CALDESC:Veranstaltungen für Basler Baukultur
BEGIN:VTIMEZONE
TZID:Europe/Zurich
BEGIN:DAYLIGHT
TZOFFSETFROM:+0100
TZOFFSETTO:+0200
TZNAME:CEST
DTSTART:20220327T010000
END:DAYLIGHT
BEGIN:STANDARD
TZOFFSETFROM:+0200
TZOFFSETTO:+0100
TZNAME:CET
DTSTART:20221030T010000
END:STANDARD
END:VTIMEZONE
BEGIN:VEVENT
DTSTART;TZID=Europe/Zurich:20220813T160000
DTEND;TZID=Europe/Zurich:20220813T180000
DTSTAMP:20260423T103119
CREATED:20220705T140217Z
LAST-MODIFIED:20220705T142927Z
UID:4652-1660406400-1660413600@www.basler-baukultur.ch
SUMMARY:Vom Spalentorweg zum Brausebad – «Identifikation»
DESCRIPTION:Entlang der Socinstrasse laden kleine\, ruhige Plätze\, gefasst von einer qualitätvollen Bebauung\, zum Verweilen ein. In einigen Strassenabschnitten lassen sich die Strukturen der typischen Erstbebauung des Wohnquartiers noch erkennen\, während das ehemalige Trassee der Elsässerbahn – die heutige Ringstrasse – von einer sehr heterogenen Bebauung gesäumt wird. Welche Bauten prägen die Identität und den Charakter des Quartiers in besonderer Weise? Wie lassen sich die architektonischen Elemente\, die zur hohen Wohnqualität der Gegend beitragen\, stärken? \nKostenlose Veranstaltung
URL:https://www.basler-baukultur.ch/veranstaltung/2022-08-13-spalentorweg-brausebad-identifikation
LOCATION:Treffpunkt: Vor dem Haus Spalentorweg 45\, Spalentorweg 45\, Basel\, 4051\, Schweiz
CATEGORIES:2022 - Am Ring – im Dialog
ATTACH;FMTTYPE=image/jpeg:https://www.basler-baukultur.ch/wp-content/uploads/2022/07/AmRing_Rundgang_2.jpg
ORGANIZER;CN="Kantonale%20Denkmalpflege%20Basel-Stadt":MAILTO:denkmalpflege@bs.ch
END:VEVENT
END:VCALENDAR