BEGIN:VCALENDAR
VERSION:2.0
PRODID:-//Basler Baukultur - ECPv5.9.0//NONSGML v1.0//EN
CALSCALE:GREGORIAN
METHOD:PUBLISH
X-WR-CALNAME:Basler Baukultur
X-ORIGINAL-URL:https://www.basler-baukultur.ch
X-WR-CALDESC:Veranstaltungen für Basler Baukultur
BEGIN:VTIMEZONE
TZID:Europe/Zurich
BEGIN:DAYLIGHT
TZOFFSETFROM:+0100
TZOFFSETTO:+0200
TZNAME:CEST
DTSTART:20220327T010000
END:DAYLIGHT
BEGIN:STANDARD
TZOFFSETFROM:+0200
TZOFFSETTO:+0100
TZNAME:CET
DTSTART:20221030T010000
END:STANDARD
END:VTIMEZONE
BEGIN:VEVENT
DTSTART;TZID=Europe/Zurich:20220811T180000
DTEND;TZID=Europe/Zurich:20220811T200000
DTSTAMP:20260419T231249
CREATED:20220705T134157Z
LAST-MODIFIED:20220705T143004Z
UID:4647-1660240800-1660248000@www.basler-baukultur.ch
SUMMARY:Unterwegs im Mostacker − «Erinnerung»
DESCRIPTION:In den Strassen des «Mostackers»\, dem früheren Rebgelände vor der ehemaligen Stadtmauer\, finden sich noch gut erhaltene Bauten aus der Zeit der ersten Stadterweiterung. Es sind einfach gehaltene Reihenhäuser mit ausgedehnten Gärten. Daneben prägen verschiedene Sakralbauten wie die Synagoge oder die Marienkirche diesen Quartierteil und zeugen von seiner spezifischen kulturellen Bedeutung. Zeichnet sich das vielfältige religiöse Leben dieser Gegend auch in weiteren Bauten ab? Lässt sich die Quartiergeschichte im Stadtbild festigen? \nKostenlose Veranstaltung
URL:https://www.basler-baukultur.ch/veranstaltung/2022-08-11-mostacker-erinnerung
LOCATION:Treffpunkt: Kreuzung Byfangweg/Feierabendstrasse\, Byfangweg\, Basel\, 4051\, Schweiz
CATEGORIES:2022 - Am Ring – im Dialog
ATTACH;FMTTYPE=image/jpeg:https://www.basler-baukultur.ch/wp-content/uploads/2022/07/AmRing_Rundgang_1.jpg
ORGANIZER;CN="Kantonale%20Denkmalpflege%20Basel-Stadt":MAILTO:denkmalpflege@bs.ch
END:VEVENT
END:VCALENDAR