BEGIN:VCALENDAR
VERSION:2.0
PRODID:-//Basler Baukultur - ECPv5.9.0//NONSGML v1.0//EN
CALSCALE:GREGORIAN
METHOD:PUBLISH
X-WR-CALNAME:Basler Baukultur
X-ORIGINAL-URL:https://www.basler-baukultur.ch
X-WR-CALDESC:Veranstaltungen für Basler Baukultur
BEGIN:VTIMEZONE
TZID:Europe/Zurich
BEGIN:DAYLIGHT
TZOFFSETFROM:+0100
TZOFFSETTO:+0200
TZNAME:CEST
DTSTART:20220327T010000
END:DAYLIGHT
BEGIN:STANDARD
TZOFFSETFROM:+0200
TZOFFSETTO:+0100
TZNAME:CET
DTSTART:20221030T010000
END:STANDARD
END:VTIMEZONE
BEGIN:VEVENT
DTSTART;TZID=Europe/Zurich:20220810T130000
DTEND;TZID=Europe/Zurich:20220810T140000
DTSTAMP:20260419T213854
CREATED:20220401T214550Z
LAST-MODIFIED:20220519T144722Z
UID:3987-1660136400-1660140000@www.basler-baukultur.ch
SUMMARY:Die Musiksäle im Stadtcasino – Zur Restaurierung historischer Klangräume
DESCRIPTION:Führung: Daniel Schneller\, Kantonaler Denkmalpfleger und Sandra Fiechter\, Kunsthistorikerin. Im Anschluss an die Führung Orgeldemonstration mit Babette Mondry\, Organistin. \n\n\n\nZehn Jahre dauerten Planung\, Erweiterung und Restaurierung des Basler Musiksaals. Es hat sich gelohnt\, sich diese Zeit zu nehmen. Die Kantonale Denkmalpflege konnte anhand von historischen Dokumenten\, Plänen und Bestandsuntersuchungen die Veränderungen im Laufe der Geschichte nachvollziehen\, vor allem aber festhalten\, wie sich der Saal 1905 präsentierte\, als die Orgel eingebaut wurde. Das waren wichtige Grundlagen für die sorgfältige Restaurierung durch Herzog & de Meuron. Sandra Fiechter und Daniel Schneller nehmen sie mit auf eine Zeitreise und erläutern im Saal\, weshalb er heute so aussieht und nicht anders. Babette Mondry bringt die neue Orgel im alten Gehäuse zum Klingen und ermöglicht das Erleben der einmaligen Akustik in einem der ältesten Konzertsäle Europas\, der noch für Musikaufführungen genutzt wird. Foto: Roman Weyeneth\, © Casino-Gesellschaft Basel \nAnmeldung für diese Führung ab 16. Mai.
URL:https://www.basler-baukultur.ch/veranstaltung/2022-08-10-die-musiksaele-im-stadtcasino
LOCATION:Treffpunkt: Vor dem Haupteingang am Barfüsserplatz\, Konzertgasse 1\, Konzertgasse 1\, Basel\, 4051\, Schweiz
CATEGORIES:2022 - Extra: Die Musiksäle im Stadtcasino,Anmeldung und Ticket notwendig
ATTACH;FMTTYPE=image/jpeg:https://www.basler-baukultur.ch/wp-content/uploads/2021/06/Denkmalpflege-Basel-Stadt-Musiksaele-2021_01-scaled.jpg
ORGANIZER;CN="Kantonale%20Denkmalpflege%20Basel-Stadt":MAILTO:denkmalpflege@bs.ch
END:VEVENT
END:VCALENDAR