BEGIN:VCALENDAR
VERSION:2.0
PRODID:-//Basler Baukultur - ECPv5.9.0//NONSGML v1.0//EN
CALSCALE:GREGORIAN
METHOD:PUBLISH
X-WR-CALNAME:Basler Baukultur
X-ORIGINAL-URL:https://www.basler-baukultur.ch
X-WR-CALDESC:Veranstaltungen für Basler Baukultur
BEGIN:VTIMEZONE
TZID:Europe/Zurich
BEGIN:DAYLIGHT
TZOFFSETFROM:+0100
TZOFFSETTO:+0200
TZNAME:CEST
DTSTART:20210328T010000
END:DAYLIGHT
BEGIN:STANDARD
TZOFFSETFROM:+0200
TZOFFSETTO:+0100
TZNAME:CET
DTSTART:20211031T010000
END:STANDARD
END:VTIMEZONE
BEGIN:VEVENT
DTSTART;TZID=Europe/Zurich:20210911T110000
DTEND;TZID=Europe/Zurich:20210911T114500
DTSTAMP:20260422T085334
CREATED:20210903T204526Z
LAST-MODIFIED:20210907T185358Z
UID:1797-1631358000-1631360700@www.basler-baukultur.ch
SUMMARY:Bauliche Identität zwischen Bestand und Veränderung
DESCRIPTION:Führung: Neutraler Quartierverein Bruderholz. \n\n\n\nDas Bruderholz – ein beliebtes Quartier zum Wohnen\, dessen Geschichte und Entwicklung vielfältiger ist\, als man denkt. Der Rundgang lenkt den Blick auf Historisches und Aktuelles\, vor allem auf identitätsstiftende Bauten und Orte: Wie bestimmen sie den typischen Charakter des Quartiers? Wo stehen sie unter Druck? Wo droht Grünraum zu verschwinden? \n\n\n\nFührungen um 11.00\, 14.00 und 15.30 Uhr (Dauer 45 Min.)
URL:https://www.basler-baukultur.ch/veranstaltung/bauliche-identitaet-zwischen-bestand-und-veraenderung/2021-09-11
LOCATION:Treffpunkt: Vor dem Restaurant «Stucki»\, Bruderholzallee 42\, Stucki Bruderholzallee 42\, Basel\, 4059\, Schweiz
CATEGORIES:2021 - Europäischer Tag des Denkmals,Anmeldung und Ticket notwendig,Bruderholz
ATTACH;FMTTYPE=image/jpeg:https://www.basler-baukultur.ch/wp-content/uploads/2021/09/25_Rundgang_NQVB.jpg
ORGANIZER;CN="Kantonale%20Denkmalpflege%20Basel-Stadt":MAILTO:denkmalpflege@bs.ch
END:VEVENT
END:VCALENDAR